BEGIN:VCALENDAR
VERSION:2.0
PRODID:-//Terra Bella - ECPv6.15.13.1//NONSGML v1.0//EN
CALSCALE:GREGORIAN
METHOD:PUBLISH
X-ORIGINAL-URL:https://terrabellavillage.com
X-WR-CALDESC:Events for Terra Bella
REFRESH-INTERVAL;VALUE=DURATION:PT1H
X-Robots-Tag:noindex
X-PUBLISHED-TTL:PT1H
BEGIN:VTIMEZONE
TZID:America/New_York
BEGIN:DAYLIGHT
TZOFFSETFROM:-0500
TZOFFSETTO:-0400
TZNAME:EDT
DTSTART:20240310T070000
END:DAYLIGHT
BEGIN:STANDARD
TZOFFSETFROM:-0400
TZOFFSETTO:-0500
TZNAME:EST
DTSTART:20241103T060000
END:STANDARD
BEGIN:DAYLIGHT
TZOFFSETFROM:-0500
TZOFFSETTO:-0400
TZNAME:EDT
DTSTART:20250309T070000
END:DAYLIGHT
BEGIN:STANDARD
TZOFFSETFROM:-0400
TZOFFSETTO:-0500
TZNAME:EST
DTSTART:20251102T060000
END:STANDARD
BEGIN:DAYLIGHT
TZOFFSETFROM:-0500
TZOFFSETTO:-0400
TZNAME:EDT
DTSTART:20260308T070000
END:DAYLIGHT
BEGIN:STANDARD
TZOFFSETFROM:-0400
TZOFFSETTO:-0500
TZNAME:EST
DTSTART:20261101T060000
END:STANDARD
END:VTIMEZONE
BEGIN:VEVENT
DTSTART;TZID=America/New_York:20250920T163000
DTEND;TZID=America/New_York:20250920T203000
DTSTAMP:20260425T220735
CREATED:20250620T195635Z
LAST-MODIFIED:20250909T215353Z
UID:1672-1758385800-1758400200@terrabellavillage.com
SUMMARY:Canvas and Chords
DESCRIPTION:  \n  \n🎨✨ Canvas & Chords at TerraBella Village ✨🎶 \nJoin us on Friday\, September 20th\, 2025 from 4:30–8:30 PM in TerraBella Village\, Covington\, for an evening filled with art\, music\, food\, and community! \nStroll through vibrant art displays\, watch live demos\, and enjoy live music from Jake Gunter (6:30–8:30 PM) along with local performers throughout the evening. Savor bites from favorite food trucks and vendors like Rusty Pelican\, Creole Tomateaux\, BBQ Shrimp Guy\, and more\, while sipping drinks from local favorites. \n✨ Event Highlights \nFeatured artists + live art demonstrations \nBusiness open houses \nDelicious food & drinks \nFamily-friendly fun \nWear your boldest and brightest colors! \nA portion of event proceeds will benefit local causes\, making this not only a fun night out but also a meaningful one. \n📍 TerraBella Village\, Covington🎟️ Free and open to the public
URL:https://terrabellavillage.com/event/canvas-and-chords/
LOCATION:TerraBella Village Town Square\, Covington\, LA\, 70433
CATEGORIES:Art,Marketplace,Music,Wine
END:VEVENT
END:VCALENDAR