BEGIN:VCALENDAR
VERSION:2.0
PRODID:-//Terra Bella - ECPv6.15.13.1//NONSGML v1.0//EN
CALSCALE:GREGORIAN
METHOD:PUBLISH
X-ORIGINAL-URL:https://terrabellavillage.com
X-WR-CALDESC:Events for Terra Bella
REFRESH-INTERVAL;VALUE=DURATION:PT1H
X-Robots-Tag:noindex
X-PUBLISHED-TTL:PT1H
BEGIN:VTIMEZONE
TZID:America/New_York
BEGIN:DAYLIGHT
TZOFFSETFROM:-0500
TZOFFSETTO:-0400
TZNAME:EDT
DTSTART:20250309T070000
END:DAYLIGHT
BEGIN:STANDARD
TZOFFSETFROM:-0400
TZOFFSETTO:-0500
TZNAME:EST
DTSTART:20251102T060000
END:STANDARD
BEGIN:DAYLIGHT
TZOFFSETFROM:-0500
TZOFFSETTO:-0400
TZNAME:EDT
DTSTART:20260308T070000
END:DAYLIGHT
BEGIN:STANDARD
TZOFFSETFROM:-0400
TZOFFSETTO:-0500
TZNAME:EST
DTSTART:20261101T060000
END:STANDARD
BEGIN:DAYLIGHT
TZOFFSETFROM:-0500
TZOFFSETTO:-0400
TZNAME:EDT
DTSTART:20270314T070000
END:DAYLIGHT
BEGIN:STANDARD
TZOFFSETFROM:-0400
TZOFFSETTO:-0500
TZNAME:EST
DTSTART:20271107T060000
END:STANDARD
END:VTIMEZONE
BEGIN:VEVENT
DTSTART;TZID=America/New_York:20261009T173000
DTEND;TZID=America/New_York:20261009T203000
DTSTAMP:20260425T074906
CREATED:20260129T162807Z
LAST-MODIFIED:20260129T174705Z
UID:1743-1791567000-1791577800@terrabellavillage.com
SUMMARY:Friday Nites on the Square
DESCRIPTION:Friday\, October 9 – The Boogie MenThe Boogie Men bring a dance-worthy mix of classic rock\, funk\, and crowd-pleasing hits. Known for their big sound and nonstop energy\, this is one of those nights where lawn chairs turn into dance floors.
URL:https://terrabellavillage.com/event/friday-nites-on-the-square-5/
LOCATION:TerraBella Village Town Square\, Covington\, LA\, 70433
CATEGORIES:Music
ATTACH;FMTTYPE=image/png:https://terrabellavillage.com/wp-content/uploads/2026/01/Untitled-design-3.png
END:VEVENT
END:VCALENDAR