BEGIN:VCALENDAR
VERSION:2.0
PRODID:-//Terra Bella - ECPv6.15.13.1//NONSGML v1.0//EN
CALSCALE:GREGORIAN
METHOD:PUBLISH
X-WR-CALNAME:Terra Bella
X-ORIGINAL-URL:https://terrabellavillage.com
X-WR-CALDESC:Events for Terra Bella
REFRESH-INTERVAL;VALUE=DURATION:PT1H
X-Robots-Tag:noindex
X-PUBLISHED-TTL:PT1H
BEGIN:VTIMEZONE
TZID:America/New_York
BEGIN:DAYLIGHT
TZOFFSETFROM:-0500
TZOFFSETTO:-0400
TZNAME:EDT
DTSTART:20250309T070000
END:DAYLIGHT
BEGIN:STANDARD
TZOFFSETFROM:-0400
TZOFFSETTO:-0500
TZNAME:EST
DTSTART:20251102T060000
END:STANDARD
BEGIN:DAYLIGHT
TZOFFSETFROM:-0500
TZOFFSETTO:-0400
TZNAME:EDT
DTSTART:20260308T070000
END:DAYLIGHT
BEGIN:STANDARD
TZOFFSETFROM:-0400
TZOFFSETTO:-0500
TZNAME:EST
DTSTART:20261101T060000
END:STANDARD
BEGIN:DAYLIGHT
TZOFFSETFROM:-0500
TZOFFSETTO:-0400
TZNAME:EDT
DTSTART:20270314T070000
END:DAYLIGHT
BEGIN:STANDARD
TZOFFSETFROM:-0400
TZOFFSETTO:-0500
TZNAME:EST
DTSTART:20271107T060000
END:STANDARD
END:VTIMEZONE
BEGIN:VEVENT
DTSTART;TZID=America/New_York:20261024T103000
DTEND;TZID=America/New_York:20261024T143000
DTSTAMP:20260423T153418
CREATED:20260129T172957Z
LAST-MODIFIED:20260129T174640Z
UID:1755-1792837800-1792852200@terrabellavillage.com
SUMMARY:Pumpkins in the Park
DESCRIPTION:Pumpkins in the Park – Saturday\, October 24Pumpkins in the Park is a fall favorite for families and neighbors of all ages. The Square fills with pumpkins\, seasonal fun\, and festive activities that make for a perfect autumn afternoon. It’s a great way to kick off the fall season and enjoy time outdoors together.
URL:https://terrabellavillage.com/event/pumpkins-in-the-park-5/
CATEGORIES:Holiday
ATTACH;FMTTYPE=image/jpeg:https://terrabellavillage.com/wp-content/uploads/2026/01/pumpkins2025.jpg
END:VEVENT
BEGIN:VEVENT
DTSTART;TZID=America/New_York:20261211T170000
DTEND;TZID=America/New_York:20261211T210000
DTSTAMP:20260423T153418
CREATED:20260129T174019Z
LAST-MODIFIED:20260129T175546Z
UID:1758-1797008400-1797022800@terrabellavillage.com
SUMMARY:Christmas at TerraBella
DESCRIPTION:Christmas at TerraBella – Friday\, December 11Christmas at TerraBella brings the Town Square to life with lights\, music\, and classic holiday cheer. Throughout the evening\, local vendors offer unique gifts and seasonal items while local bands and community groups fill the Square with Christmas carols and festive performances. It’s a joyful\, walkable night that captures the spirit of the season and brings neighbors and visitors together to celebrate. And did we mention Santa will be there!? \n 
URL:https://terrabellavillage.com/event/christmas-at-terrabella-2/
CATEGORIES:Art,Food,Holiday,Marketplace
ATTACH;FMTTYPE=image/jpeg:https://terrabellavillage.com/wp-content/uploads/2026/01/Christmas-scaled.jpg
END:VEVENT
END:VCALENDAR