BEGIN:VCALENDAR
VERSION:2.0
PRODID:-//Terra Bella - ECPv6.15.13.1//NONSGML v1.0//EN
CALSCALE:GREGORIAN
METHOD:PUBLISH
X-WR-CALNAME:Terra Bella
X-ORIGINAL-URL:https://terrabellavillage.com
X-WR-CALDESC:Events for Terra Bella
REFRESH-INTERVAL;VALUE=DURATION:PT1H
X-Robots-Tag:noindex
X-PUBLISHED-TTL:PT1H
BEGIN:VTIMEZONE
TZID:America/New_York
BEGIN:DAYLIGHT
TZOFFSETFROM:-0500
TZOFFSETTO:-0400
TZNAME:EDT
DTSTART:20250309T070000
END:DAYLIGHT
BEGIN:STANDARD
TZOFFSETFROM:-0400
TZOFFSETTO:-0500
TZNAME:EST
DTSTART:20251102T060000
END:STANDARD
BEGIN:DAYLIGHT
TZOFFSETFROM:-0500
TZOFFSETTO:-0400
TZNAME:EDT
DTSTART:20260308T070000
END:DAYLIGHT
BEGIN:STANDARD
TZOFFSETFROM:-0400
TZOFFSETTO:-0500
TZNAME:EST
DTSTART:20261101T060000
END:STANDARD
BEGIN:DAYLIGHT
TZOFFSETFROM:-0500
TZOFFSETTO:-0400
TZNAME:EDT
DTSTART:20270314T070000
END:DAYLIGHT
BEGIN:STANDARD
TZOFFSETFROM:-0400
TZOFFSETTO:-0500
TZNAME:EST
DTSTART:20271107T060000
END:STANDARD
END:VTIMEZONE
BEGIN:VEVENT
DTSTART;TZID=America/New_York:20260606T100000
DTEND;TZID=America/New_York:20260606T130000
DTSTAMP:20260423T081957
CREATED:20260129T171723Z
LAST-MODIFIED:20260325T142002Z
UID:1748-1780740000-1780750800@terrabellavillage.com
SUMMARY:Classics on the Boulevard
DESCRIPTION:  \nTerraBella Car Show Registration_2026 \nClassics on the Boulevard – Saturday\, June 6\, 10am – 1pmClassics on the Boulevard brings vintage cars and timeless style to TerraBella Boulevard. Stroll the street\, admire beautifully restored classics\, and enjoy a relaxed morning in the heart of the neighborhood. This family-friendly event is a favorite for car enthusiasts and casual spectators alike.
URL:https://terrabellavillage.com/event/classics-on-the-boulevard-2/
LOCATION:TerraBella Village Town Square\, Covington\, LA\, 70433
CATEGORIES:Cars
ATTACH;FMTTYPE=image/jpeg:https://terrabellavillage.com/wp-content/uploads/2023/08/IMG_8194.jpg
END:VEVENT
BEGIN:VEVENT
DTSTART;TZID=America/New_York:20260919T170000
DTEND;TZID=America/New_York:20260919T200000
DTSTAMP:20260423T081957
CREATED:20260129T172831Z
LAST-MODIFIED:20260129T174951Z
UID:1752-1789837200-1789848000@terrabellavillage.com
SUMMARY:Canvas & Chords
DESCRIPTION:Canvas & Chords – Saturday\, September 19Canvas & Chords transforms TerraBella Boulevard into a lively outdoor arts and music experience. Local vendors line the boulevard with handcrafted items available for purchase\, creating a walkable showcase of creativity and talent. The TerraBella Artists Guild hosts a dedicated tent filled with unique works\, and artists from the St. Tammany Art Association also participate\, adding even more variety. Live music throughout the evening ties it all together\, making this a favorite for art lovers and those looking for a relaxed\, community-focused night out. \n 
URL:https://terrabellavillage.com/event/canvas-chords/
LOCATION:TerraBella Village Town Square\, Covington\, LA\, 70433
CATEGORIES:Art,Food,Marketplace,Music
ATTACH;FMTTYPE=image/jpeg:https://terrabellavillage.com/wp-content/uploads/2026/01/canvas-and-chords-promo-image-scaled.jpg
END:VEVENT
BEGIN:VEVENT
DTSTART;TZID=America/New_York:20261009T173000
DTEND;TZID=America/New_York:20261009T203000
DTSTAMP:20260423T081957
CREATED:20260129T162807Z
LAST-MODIFIED:20260129T174705Z
UID:1743-1791567000-1791577800@terrabellavillage.com
SUMMARY:Friday Nites on the Square
DESCRIPTION:Friday\, October 9 – The Boogie MenThe Boogie Men bring a dance-worthy mix of classic rock\, funk\, and crowd-pleasing hits. Known for their big sound and nonstop energy\, this is one of those nights where lawn chairs turn into dance floors.
URL:https://terrabellavillage.com/event/friday-nites-on-the-square-5/
LOCATION:TerraBella Village Town Square\, Covington\, LA\, 70433
CATEGORIES:Music
ATTACH;FMTTYPE=image/png:https://terrabellavillage.com/wp-content/uploads/2026/01/Untitled-design-3.png
END:VEVENT
BEGIN:VEVENT
DTSTART;TZID=America/New_York:20261024T103000
DTEND;TZID=America/New_York:20261024T143000
DTSTAMP:20260423T081957
CREATED:20260129T172957Z
LAST-MODIFIED:20260129T174640Z
UID:1755-1792837800-1792852200@terrabellavillage.com
SUMMARY:Pumpkins in the Park
DESCRIPTION:Pumpkins in the Park – Saturday\, October 24Pumpkins in the Park is a fall favorite for families and neighbors of all ages. The Square fills with pumpkins\, seasonal fun\, and festive activities that make for a perfect autumn afternoon. It’s a great way to kick off the fall season and enjoy time outdoors together.
URL:https://terrabellavillage.com/event/pumpkins-in-the-park-5/
CATEGORIES:Holiday
ATTACH;FMTTYPE=image/jpeg:https://terrabellavillage.com/wp-content/uploads/2026/01/pumpkins2025.jpg
END:VEVENT
BEGIN:VEVENT
DTSTART;TZID=America/New_York:20261111T100000
DTEND;TZID=America/New_York:20261111T103000
DTSTAMP:20260423T081957
CREATED:20260220T181829Z
LAST-MODIFIED:20260220T181829Z
UID:1801-1794391200-1794393000@terrabellavillage.com
SUMMARY:Veteran's Day Raising of the Flag
DESCRIPTION:Join us this Veterans Day for a special Flag Raising Ceremony as we honor the veterans of TerraBella and their families. Together\, we will pause in gratitude for their service\, sacrifice\, and dedication to our country. All are welcome to attend this meaningful moment of remembrance and community.
URL:https://terrabellavillage.com/event/veterans-day-raising-of-the-flag/
ATTACH;FMTTYPE=image/jpeg:https://terrabellavillage.com/wp-content/uploads/2026/02/veterans-day-scaled.jpg
END:VEVENT
BEGIN:VEVENT
DTSTART;TZID=America/New_York:20261113T173000
DTEND;TZID=America/New_York:20261113T203000
DTSTAMP:20260423T081957
CREATED:20260129T163007Z
LAST-MODIFIED:20260129T174611Z
UID:1746-1794591000-1794601800@terrabellavillage.com
SUMMARY:Friday Nites on the Square
DESCRIPTION:Friday\, November 13 – New SuitNew Suit closes out our Friday Nites on the Square season with a soulful\, high-energy show featuring blues\, rock\, and Americana influences. Their dynamic performance style makes for a great night to gather with neighbors and enjoy live music under the lights.
URL:https://terrabellavillage.com/event/friday-nites-on-the-square-6/
CATEGORIES:Music
ATTACH;FMTTYPE=image/jpeg:https://terrabellavillage.com/wp-content/uploads/2026/01/new-suit.jpg
END:VEVENT
BEGIN:VEVENT
DTSTART;TZID=America/New_York:20261211T170000
DTEND;TZID=America/New_York:20261211T210000
DTSTAMP:20260423T081957
CREATED:20260129T174019Z
LAST-MODIFIED:20260129T175546Z
UID:1758-1797008400-1797022800@terrabellavillage.com
SUMMARY:Christmas at TerraBella
DESCRIPTION:Christmas at TerraBella – Friday\, December 11Christmas at TerraBella brings the Town Square to life with lights\, music\, and classic holiday cheer. Throughout the evening\, local vendors offer unique gifts and seasonal items while local bands and community groups fill the Square with Christmas carols and festive performances. It’s a joyful\, walkable night that captures the spirit of the season and brings neighbors and visitors together to celebrate. And did we mention Santa will be there!? \n 
URL:https://terrabellavillage.com/event/christmas-at-terrabella-2/
CATEGORIES:Art,Food,Holiday,Marketplace
ATTACH;FMTTYPE=image/jpeg:https://terrabellavillage.com/wp-content/uploads/2026/01/Christmas-scaled.jpg
END:VEVENT
END:VCALENDAR