BEGIN:VCALENDAR
VERSION:2.0
PRODID:-//Terra Bella - ECPv6.15.13.1//NONSGML v1.0//EN
CALSCALE:GREGORIAN
METHOD:PUBLISH
X-ORIGINAL-URL:https://terrabellavillage.com
X-WR-CALDESC:Events for Terra Bella
REFRESH-INTERVAL;VALUE=DURATION:PT1H
X-Robots-Tag:noindex
X-PUBLISHED-TTL:PT1H
BEGIN:VTIMEZONE
TZID:America/New_York
BEGIN:DAYLIGHT
TZOFFSETFROM:-0500
TZOFFSETTO:-0400
TZNAME:EDT
DTSTART:20250309T070000
END:DAYLIGHT
BEGIN:STANDARD
TZOFFSETFROM:-0400
TZOFFSETTO:-0500
TZNAME:EST
DTSTART:20251102T060000
END:STANDARD
BEGIN:DAYLIGHT
TZOFFSETFROM:-0500
TZOFFSETTO:-0400
TZNAME:EDT
DTSTART:20260308T070000
END:DAYLIGHT
BEGIN:STANDARD
TZOFFSETFROM:-0400
TZOFFSETTO:-0500
TZNAME:EST
DTSTART:20261101T060000
END:STANDARD
BEGIN:DAYLIGHT
TZOFFSETFROM:-0500
TZOFFSETTO:-0400
TZNAME:EDT
DTSTART:20270314T070000
END:DAYLIGHT
BEGIN:STANDARD
TZOFFSETFROM:-0400
TZOFFSETTO:-0500
TZNAME:EST
DTSTART:20271107T060000
END:STANDARD
END:VTIMEZONE
BEGIN:VEVENT
DTSTART;TZID=America/New_York:20260417T173000
DTEND;TZID=America/New_York:20260417T203000
DTSTAMP:20260425T113819
CREATED:20260129T154816Z
LAST-MODIFIED:20260129T174905Z
UID:1737-1776447000-1776457800@terrabellavillage.com
SUMMARY:Friday Nites on the Square
DESCRIPTION:Friday\, April 17 – The Rocketmen: The Ultimate Elton John ExperienceGet ready for a fun\, sing-along night as The Rocketmen bring the music of Elton John to life. From classic ballads to upbeat crowd favorites\, this tribute delivers a lively\, polished performance perfect for a night on the Square.
URL:https://terrabellavillage.com/event/friday-nites-on-the-square-4/
LOCATION:TerraBella Village Town Square\, Covington\, LA\, 70433
CATEGORIES:Music
ATTACH;FMTTYPE=image/jpeg:https://terrabellavillage.com/wp-content/uploads/2026/01/FNOS-2025-2-scaled.jpg
END:VEVENT
END:VCALENDAR