BEGIN:VCALENDAR
VERSION:2.0
PRODID:-//Terra Bella - ECPv6.15.13.1//NONSGML v1.0//EN
CALSCALE:GREGORIAN
METHOD:PUBLISH
X-WR-CALNAME:Terra Bella
X-ORIGINAL-URL:https://terrabellavillage.com
X-WR-CALDESC:Events for Terra Bella
REFRESH-INTERVAL;VALUE=DURATION:PT1H
X-Robots-Tag:noindex
X-PUBLISHED-TTL:PT1H
BEGIN:VTIMEZONE
TZID:America/New_York
BEGIN:DAYLIGHT
TZOFFSETFROM:-0500
TZOFFSETTO:-0400
TZNAME:EDT
DTSTART:20240310T070000
END:DAYLIGHT
BEGIN:STANDARD
TZOFFSETFROM:-0400
TZOFFSETTO:-0500
TZNAME:EST
DTSTART:20241103T060000
END:STANDARD
BEGIN:DAYLIGHT
TZOFFSETFROM:-0500
TZOFFSETTO:-0400
TZNAME:EDT
DTSTART:20250309T070000
END:DAYLIGHT
BEGIN:STANDARD
TZOFFSETFROM:-0400
TZOFFSETTO:-0500
TZNAME:EST
DTSTART:20251102T060000
END:STANDARD
BEGIN:DAYLIGHT
TZOFFSETFROM:-0500
TZOFFSETTO:-0400
TZNAME:EDT
DTSTART:20260308T070000
END:DAYLIGHT
BEGIN:STANDARD
TZOFFSETFROM:-0400
TZOFFSETTO:-0500
TZNAME:EST
DTSTART:20261101T060000
END:STANDARD
END:VTIMEZONE
BEGIN:VEVENT
DTSTART;TZID=America/New_York:20251212T180000
DTEND;TZID=America/New_York:20251212T210000
DTSTAMP:20260425T184004
CREATED:20250909T213407Z
LAST-MODIFIED:20251021T182909Z
UID:1705-1765562400-1765573200@terrabellavillage.com
SUMMARY:Christmas at TerraBella
DESCRIPTION:
URL:https://terrabellavillage.com/event/christmas-at-terrabella/
LOCATION:TerraBella Village Town Square\, Covington\, LA\, 70433
ATTACH;FMTTYPE=image/png:https://terrabellavillage.com/wp-content/uploads/2025/09/12.12-Christmas-in-TBV.png
END:VEVENT
END:VCALENDAR